BEGIN:VCALENDAR
VERSION:2.0
PRODID:-//givewesterniowa.org//NONSGML kigkonsult.se iCalcreator 2.30.10//
CALSCALE:GREGORIAN
METHOD:PUBLISH
UID:e932d9b9-468a-4922-b1ab-6c54477b0c14
X-WR-CALDESC:
X-WR-RELCALID:ff636b04e733f52f652da9ee31a48482
X-WR-TIMEZONE:America/Chicago
BEGIN:VTIMEZONE
TZID:America/Chicago
BEGIN:STANDARD
TZNAME:CST
DTSTART:20251102T020000
TZOFFSETFROM:-0500
TZOFFSETTO:-0600
RDATE:20261101T020000
END:STANDARD
BEGIN:DAYLIGHT
TZNAME:CDT
DTSTART:20260308T020000
TZOFFSETFROM:-0600
TZOFFSETTO:-0500
RDATE:20270314T020000
END:DAYLIGHT
END:VTIMEZONE
BEGIN:VEVENT
UID:09701039-1f9e-4070-a425-c9f2f86c99f0
DTSTAMP:20260424T121421Z
DESCRIPTION:
DTSTART;TZID=America/Chicago:20260420T050000
DTEND;TZID=America/Chicago:20260424T050001
LOCATION:
SUMMARY:Do Good Days
END:VEVENT
END:VCALENDAR
