BEGIN:VCALENDAR
VERSION:2.0
PRODID:-//givewesterniowa.org//NONSGML kigkonsult.se iCalcreator 2.30.10//
CALSCALE:GREGORIAN
METHOD:PUBLISH
UID:00862a21-65e1-430f-8e60-15546833e04c
X-WR-CALDESC:Join us for an informative and engaging morning of conversatio
 ns addressing the issues facing leaders and our workforce around workplace
  well-being and mental health.\n\nWe are excited to welcome area leaders\,
  local businesses\, and subject matter experts to discuss industry challen
 ges and solutions around mental well-being\, perceived stigma\, access to 
 services\, and preserving your workforce.\n\n
X-WR-RELCALID:78a1a46db0196dcd0a8680b737071fc4
X-WR-TIMEZONE:America/Chicago
BEGIN:VTIMEZONE
TZID:America/Chicago
BEGIN:STANDARD
TZNAME:CST
DTSTART:20251102T020000
TZOFFSETFROM:-0500
TZOFFSETTO:-0600
RDATE:20261101T020000
RDATE:20271107T020000
END:STANDARD
BEGIN:DAYLIGHT
TZNAME:CDT
DTSTART:20260308T020000
TZOFFSETFROM:-0600
TZOFFSETTO:-0500
RDATE:20270314T020000
END:DAYLIGHT
END:VTIMEZONE
BEGIN:VEVENT
UID:2f0c11c9-bc37-4328-bd88-90fa78c6977a
DTSTAMP:20260422T182933Z
DESCRIPTION:Join us for an informative and engaging morning of conversation
 s addressing the issues facing leaders and our workforce around workplace 
 well-being and mental health.\n\nWe are excited to welcome area leaders\, 
 local businesses\, and subject matter experts to discuss industry challeng
 es and solutions around mental well-being\, perceived stigma\, access to s
 ervices\, and preserving your workforce.\n\n
DTSTART;TZID=America/Chicago:20260508T073000
DTEND;TZID=America/Chicago:20260508T100000
LOCATION:Roads Operation Center 17501 Eastern Hills Drive\, 17501 Eastern H
 ills Drive\, Council Bluffs\, IA 51503 US
SUMMARY:Rise & Thrive: A Mental Health Morning Conversation
END:VEVENT
END:VCALENDAR
