BEGIN:VCALENDAR
VERSION:2.0
PRODID:-//givewesterniowa.org//NONSGML kigkonsult.se iCalcreator 2.30.10//
CALSCALE:GREGORIAN
METHOD:PUBLISH
UID:c55b5b99-a9c1-4fa1-bbee-b6fff6fdbba4
X-WR-CALDESC:
X-WR-RELCALID:8f3fbc3dafbf56a01476727fb03d5b2d
X-WR-TIMEZONE:America/Chicago
BEGIN:VTIMEZONE
TZID:America/Chicago
BEGIN:STANDARD
TZNAME:CST
DTSTART:20261101T020000
TZOFFSETFROM:-0500
TZOFFSETTO:-0600
RDATE:20271107T020000
RDATE:20281105T020000
END:STANDARD
BEGIN:DAYLIGHT
TZNAME:CDT
DTSTART:20270314T020000
TZOFFSETFROM:-0600
TZOFFSETTO:-0500
RDATE:20280312T020000
END:DAYLIGHT
END:VTIMEZONE
BEGIN:VEVENT
UID:ed639305-16d2-4f94-8bf5-936925d8ae59
DTSTAMP:20260421T122813Z
DESCRIPTION:
DTSTART;TZID=America/Chicago:20270730T120000
DTEND;TZID=America/Chicago:20270730T160000
LOCATION:
SUMMARY:Office Closed at 12:00- Staff Wellness Day
END:VEVENT
END:VCALENDAR
