BEGIN:VCALENDAR
VERSION:2.0
PRODID:-//givewesterniowa.org//NONSGML kigkonsult.se iCalcreator 2.30.10//
CALSCALE:GREGORIAN
METHOD:PUBLISH
UID:60e4e8a1-7b38-48cc-a540-1ae95a82a0bc
X-WR-CALDESC:
X-WR-RELCALID:351d5087b12c851a0318f311cb6c6804
X-WR-TIMEZONE:America/Chicago
BEGIN:VTIMEZONE
TZID:America/Chicago
BEGIN:STANDARD
TZNAME:CST
DTSTART:20271107T020000
TZOFFSETFROM:-0500
TZOFFSETTO:-0600
RDATE:20281105T020000
RDATE:20291104T020000
END:STANDARD
BEGIN:DAYLIGHT
TZNAME:CDT
DTSTART:20280312T020000
TZOFFSETFROM:-0600
TZOFFSETTO:-0500
RDATE:20290311T020000
END:DAYLIGHT
END:VTIMEZONE
BEGIN:VEVENT
UID:93fa3a55-ce1f-4f16-a0a1-5d891d8ddee2
DTSTAMP:20260422T051010Z
DESCRIPTION:
DTSTART;TZID=America/Chicago:20280630T120000
DTEND;TZID=America/Chicago:20280630T160000
LOCATION:
SUMMARY:Office Closed at 12:00- Staff Wellness Day
END:VEVENT
END:VCALENDAR
