BEGIN:VCALENDAR
VERSION:2.0
PRODID:-//givewesterniowa.org//NONSGML kigkonsult.se iCalcreator 2.30.10//
CALSCALE:GREGORIAN
METHOD:PUBLISH
UID:45ef9855-77f0-4643-8c5d-ad5a552b7a83
X-WR-CALDESC:
X-WR-RELCALID:8f55c0fe8411899af0aad903284cc279
X-WR-TIMEZONE:America/Chicago
BEGIN:VTIMEZONE
TZID:America/Chicago
BEGIN:STANDARD
TZNAME:CST
DTSTART:20291104T020000
TZOFFSETFROM:-0500
TZOFFSETTO:-0600
RDATE:20301103T020000
END:STANDARD
BEGIN:DAYLIGHT
TZNAME:CDT
DTSTART:20290311T020000
TZOFFSETFROM:-0600
TZOFFSETTO:-0500
RDATE:20300310T020000
RDATE:20310309T020000
END:DAYLIGHT
END:VTIMEZONE
BEGIN:VEVENT
UID:2922b15c-2b20-4f70-b98a-fd77e6ba84a6
DTSTAMP:20260423T062757Z
DESCRIPTION:
DTSTART;TZID=America/Chicago:20291130T120000
DTEND;TZID=America/Chicago:20291130T160000
LOCATION:
SUMMARY:Office Closed at 12:00- Staff Wellness Day
END:VEVENT
END:VCALENDAR
