BEGIN:VCALENDAR
VERSION:2.0
PRODID:-//givewesterniowa.org//NONSGML kigkonsult.se iCalcreator 2.30.10//
CALSCALE:GREGORIAN
METHOD:PUBLISH
UID:353eeef5-1a95-4333-813a-c01c2a46fac9
X-WR-CALDESC:
X-WR-RELCALID:6485353d68093484151e8fa0d75f8d96
X-WR-TIMEZONE:America/Chicago
BEGIN:VTIMEZONE
TZID:America/Chicago
BEGIN:STANDARD
TZNAME:CST
DTSTART:20291104T020000
TZOFFSETFROM:-0500
TZOFFSETTO:-0600
RDATE:20301103T020000
END:STANDARD
BEGIN:DAYLIGHT
TZNAME:CDT
DTSTART:20290311T020000
TZOFFSETFROM:-0600
TZOFFSETTO:-0500
RDATE:20300310T020000
RDATE:20310309T020000
END:DAYLIGHT
END:VTIMEZONE
BEGIN:VEVENT
UID:57372298-aa24-4119-a168-3228bc962c3f
DTSTAMP:20260423T075058Z
DESCRIPTION:
DTSTART;TZID=America/Chicago:20291228T120000
DTEND;TZID=America/Chicago:20291228T160000
LOCATION:
SUMMARY:Office Closed at 12:00- Staff Wellness Day
END:VEVENT
END:VCALENDAR
