BEGIN:VCALENDAR
VERSION:2.0
PRODID:-//givewesterniowa.org//NONSGML kigkonsult.se iCalcreator 2.30.10//
CALSCALE:GREGORIAN
METHOD:PUBLISH
UID:13cdbd8a-cd76-4444-aa0d-fe6a07804888
X-WR-CALDESC:
X-WR-RELCALID:14c8f5d23df27cb6ab6c0d43bb0cd201
X-WR-TIMEZONE:America/Chicago
BEGIN:VTIMEZONE
TZID:America/Chicago
BEGIN:STANDARD
TZNAME:CST
DTSTART:20291104T020000
TZOFFSETFROM:-0500
TZOFFSETTO:-0600
RDATE:20301103T020000
END:STANDARD
BEGIN:DAYLIGHT
TZNAME:CDT
DTSTART:20300310T020000
TZOFFSETFROM:-0600
TZOFFSETTO:-0500
RDATE:20310309T020000
END:DAYLIGHT
END:VTIMEZONE
BEGIN:VEVENT
UID:55168587-3cb6-4af3-b0a3-f5b82e3c2d0c
DTSTAMP:20260423T134202Z
DESCRIPTION:
DTSTART;TZID=America/Chicago:20300426T120000
DTEND;TZID=America/Chicago:20300426T160000
LOCATION:
SUMMARY:Office Closed at 12:00- Staff Wellness Day
END:VEVENT
END:VCALENDAR
