BEGIN:VCALENDAR
VERSION:2.0
PRODID:-//givewesterniowa.org//NONSGML kigkonsult.se iCalcreator 2.30.10//
CALSCALE:GREGORIAN
METHOD:PUBLISH
UID:7d937610-1db1-45ce-9c50-88f9d5c18e2d
X-WR-CALDESC:
X-WR-RELCALID:f0b0a2b7604997af9bb9ac302a80cca2
X-WR-TIMEZONE:America/Chicago
BEGIN:VTIMEZONE
TZID:America/Chicago
BEGIN:STANDARD
TZNAME:CST
DTSTART:20291104T020000
TZOFFSETFROM:-0500
TZOFFSETTO:-0600
RDATE:20301103T020000
RDATE:20311102T020000
END:STANDARD
BEGIN:DAYLIGHT
TZNAME:CDT
DTSTART:20300310T020000
TZOFFSETFROM:-0600
TZOFFSETTO:-0500
RDATE:20310309T020000
RDATE:20320314T020000
END:DAYLIGHT
END:VTIMEZONE
BEGIN:VEVENT
UID:ecf8992d-ab7f-481e-8643-c8c9dd129f4d
DTSTAMP:20260423T224835Z
DESCRIPTION:
DTSTART;TZID=America/Chicago:20301025T120000
DTEND;TZID=America/Chicago:20301025T160000
LOCATION:
SUMMARY:Office Closed at 12:00- Staff Wellness Day
END:VEVENT
END:VCALENDAR
